BEGIN:VCALENDAR
VERSION:2.0
PRODID:-//Merced College - ECPv6.15.20//NONSGML v1.0//EN
CALSCALE:GREGORIAN
METHOD:PUBLISH
X-WR-CALNAME:Merced College
X-ORIGINAL-URL:https://www.mccd.edu
X-WR-CALDESC:Events for Merced College
REFRESH-INTERVAL;VALUE=DURATION:PT1H
X-Robots-Tag:noindex
X-PUBLISHED-TTL:PT1H
BEGIN:VTIMEZONE
TZID:America/Los_Angeles
BEGIN:DAYLIGHT
TZOFFSETFROM:-0800
TZOFFSETTO:-0700
TZNAME:PDT
DTSTART:20240310T100000
END:DAYLIGHT
BEGIN:STANDARD
TZOFFSETFROM:-0700
TZOFFSETTO:-0800
TZNAME:PST
DTSTART:20241103T090000
END:STANDARD
BEGIN:DAYLIGHT
TZOFFSETFROM:-0800
TZOFFSETTO:-0700
TZNAME:PDT
DTSTART:20250309T100000
END:DAYLIGHT
BEGIN:STANDARD
TZOFFSETFROM:-0700
TZOFFSETTO:-0800
TZNAME:PST
DTSTART:20251102T090000
END:STANDARD
BEGIN:DAYLIGHT
TZOFFSETFROM:-0800
TZOFFSETTO:-0700
TZNAME:PDT
DTSTART:20260308T100000
END:DAYLIGHT
BEGIN:STANDARD
TZOFFSETFROM:-0700
TZOFFSETTO:-0800
TZNAME:PST
DTSTART:20261101T090000
END:STANDARD
END:VTIMEZONE
BEGIN:VEVENT
DTSTART;TZID=America/Los_Angeles:20250131T110000
DTEND;TZID=America/Los_Angeles:20250131T123000
DTSTAMP:20260425T045820
CREATED:20250117T184547Z
LAST-MODIFIED:20250117T191247Z
UID:31671-1738321200-1738326600@www.mccd.edu
SUMMARY:CSU & UC Transfer Application Update Workshop
DESCRIPTION:Need help updating your fall grades in your CSU and/or UC application for Fall 2025? Attend our workshop! Laptops will be available for student use. \n1/31 11:00 am – 12:30 pm Career/Transfer Center | Alongside the NextUp Center and the Gym
URL:https://www.mccd.edu/event/csu-uc-transfer-application-update/
LOCATION:Career/Transfer Center
CATEGORIES:Student Services,Transfer Center
END:VEVENT
END:VCALENDAR